BEGIN:VCALENDAR
VERSION:2.0
PRODID:icalendar-ruby
CALSCALE:GREGORIAN
BEGIN:VEVENT
DTSTAMP:20260420T164247Z
UID:71c9993e-5f1c-4286-92b7-f33f1bca4966
DTSTART:20230911T090000Z
DTEND:20230915T000000Z
SUMMARY:11-14 September 2023\, Symposium on Theoretical Chemistry\, Zurich\
 , Switzerland
URL;VALUE=URI:https://www.laserlab-europe.eu/events-1/conferences/conferenc
 e-calendar/11-14-september-2023-symposium-on-theoretical-chemistry-zurich-
 switzerland
END:VEVENT
END:VCALENDAR
