BEGIN:VCALENDAR
VERSION:2.0
PRODID:icalendar-ruby
CALSCALE:GREGORIAN
BEGIN:VEVENT
DTSTAMP:20260422T182222Z
UID:f0fbca3c-fd10-4245-8e15-4a3fb94e6f3e
DTSTART:20220911T090000Z
DTEND:20220915T000000Z
SUMMARY:11-14 September 2022\, International Conference on Methods and Appl
 ications of Fluorescence (MAF2022)\, Gothenburg\, Sweden
URL;VALUE=URI:https://www.laserlab-europe.eu/events-1/conferences/conferenc
 e-calendar/11-14-september-2022-international-conference-on-methods-and-ap
 plications-of-fluorescence-maf2022-gothenburg-sweden
END:VEVENT
END:VCALENDAR
