BEGIN:VCALENDAR
VERSION:2.0
PRODID:icalendar-ruby
CALSCALE:GREGORIAN
BEGIN:VEVENT
DTSTAMP:20260421T060047Z
UID:a3570a1e-c9c7-4040-9ade-1b9880958f3d
DTSTART:20240611T090000Z
DTEND:20240615T000000Z
SUMMARY:11-14 June 2024\, International Symposium on Laser Precision Microf
 abrication (LPM 2024)\, San Sebastián\, Spain
URL;VALUE=URI:https://www.laserlab-europe.eu/events/conferences/conference-
 calendar/11-14-june-2024-international-symposium-on-laser-precision-microf
 abrication-lpm-2024-san-sebastian-spain
END:VEVENT
END:VCALENDAR
