BEGIN:VCALENDAR
VERSION:2.0
PRODID:icalendar-ruby
CALSCALE:GREGORIAN
BEGIN:VEVENT
DTSTAMP:20260422T165543Z
UID:85a64996-56d9-4f93-9da2-19b3462fc692
DTSTART:20230611T090000Z
DTEND:20230615T000000Z
LOCATION:1\, Karl-Rahner-Platz
SUMMARY:11-14 June 2023\, International Meeting on Atomic and Molecular Phy
 sics and Chemistry (IMAMPC 2023)\, Innsbruck\, Austria
URL;VALUE=URI:https://www.laserlab-europe.eu/events-1/conferences/conferenc
 e-calendar/11-14-june-2023-international-meeting-on-atomic-and-molecular-p
 hysics-and-chemistry-imampc-2023-innsbruck-austria
END:VEVENT
END:VCALENDAR
