BEGIN:VCALENDAR
VERSION:2.0
PRODID:icalendar-ruby
CALSCALE:GREGORIAN
BEGIN:VEVENT
DTSTAMP:20260422T203841Z
UID:ebad3df0-0ca3-4b02-894f-a8f497815a2c
DTSTART:20231110T090000Z
DTEND:20231111T000000Z
DESCRIPTION:Speaker: Professor Takashi Tanaka (RIKEN\, Japan) - 3pm London 
 time\, online
SUMMARY:10 November 2023\, Atto Fridays: Toward few-cycle attosecond pulses
  in free electron lasers: proposal and experimental demonstration\, online
URL;VALUE=URI:https://www.laserlab-europe.eu/events/conferences/conference-
 calendar/10-november-2023-atto-fridays-toward-few-cycle-attosecond-pulses-
 in-free-electron-lasers-proposal-and-experimental-demonstration-online
END:VEVENT
END:VCALENDAR
