BEGIN:VCALENDAR
VERSION:2.0
PRODID:icalendar-ruby
CALSCALE:GREGORIAN
BEGIN:VEVENT
DTSTAMP:20260421T042829Z
UID:98fea9cf-cd20-4a47-ab93-f9eee870bff3
DTSTART:20230310T090000Z
DTEND:20230311T000000Z
DESCRIPTION:Speaker: Professor James Cryan (PULSE Institute\, Stanford) - 3
 pm London time
SUMMARY:10 March 2023\, Atto Fridays: Probing Attosecond Electron Dynamics 
 with X-ray Free Electron Lasers\, online
URL;VALUE=URI:https://www.laserlab-europe.eu/events-1/conferences/conferenc
 e-calendar/10-march-2023-atto-fridays-probing-attosecond-electron-dynamics
 -with-x-ray-free-electron-lasers-online
END:VEVENT
END:VCALENDAR
