BEGIN:VCALENDAR
VERSION:2.0
PRODID:icalendar-ruby
CALSCALE:GREGORIAN
BEGIN:VEVENT
DTSTAMP:20260422T134632Z
UID:dfaa9a3f-2b6d-48cb-9deb-c7ee646e2717
DTSTART:20221010T090000Z
DTEND:20221015T000000Z
SUMMARY:10-14 October 2022\, International School on Ultrafast X-ray Scienc
 e\, Paris-Saclay\, France
URL;VALUE=URI:https://www.laserlab-europe.eu/events-1/conferences/conferenc
 e-calendar/10-14-october-2022-international-school-on-ultrafast-x-ray-scie
 nce-paris-saclay-france
END:VEVENT
END:VCALENDAR
