BEGIN:VCALENDAR
VERSION:2.0
PRODID:icalendar-ruby
CALSCALE:GREGORIAN
BEGIN:VEVENT
DTSTAMP:20260420T233703Z
UID:723ed9d8-b195-41b8-b9c0-59e794152d07
DTSTART:20230910T090000Z
DTEND:20230914T000000Z
SUMMARY:10-13 September 2023\, CECAM workshop "Multiscale Simulation of Pho
 toresponsive Biological Systems"\, Tel Aviv\, Israel
URL;VALUE=URI:https://www.laserlab-europe.eu/events-1/conferences/conferenc
 e-calendar/10-13-september-2023-cecam-workshop-multiscale-simulation-of-ph
 otoresponsive-biological-systems-tel-aviv-israel
END:VEVENT
END:VCALENDAR
