BEGIN:VCALENDAR
VERSION:2.0
PRODID:icalendar-ruby
CALSCALE:GREGORIAN
BEGIN:VEVENT
DTSTAMP:20260423T033126Z
UID:394577ea-4259-4ad3-803c-4d9c350269c5
DTSTART:20240701T090000Z
DTEND:20240702T000000Z
DESCRIPTION:Speaker: Andrea Eschenlohr (University Duisburg-Essen) --17:00 
 CEST
SUMMARY:1 July 2024\, Fels of Europe tutorial: Femtosecond time-resolved x-
 ray absorption spectroscopy of solids\, online
URL;VALUE=URI:https://www.laserlab-europe.eu/events/conferences/conference-
 calendar/1-july-2024-fels-of-europe-tutorial-femtosecond-time-resolved-x-r
 ay-absorption-spectroscopy-of-solids-online
END:VEVENT
END:VCALENDAR
