BEGIN:VCALENDAR
VERSION:2.0
PRODID:icalendar-ruby
CALSCALE:GREGORIAN
BEGIN:VEVENT
DTSTAMP:20260423T015323Z
UID:98c8e33b-8560-4dc1-9d1c-765b7de2eb0c
DTSTART:20240701T090000Z
DTEND:20240706T000000Z
SUMMARY:1-5 July 2024\, Summer School "Infrared Free Electron Lasers in Che
 mistry and Physics" at FELIX\, Nijmegen\, The Netherlands
URL;VALUE=URI:https://www.laserlab-europe.eu/events/conferences/conference-
 calendar/1-5-july-2024-summer-school-infrared-free-electron-lasers-in-chem
 istry-and-physics-at-felix-nijmegen-the-netherlands
END:VEVENT
END:VCALENDAR
