BEGIN:VCALENDAR
VERSION:2.0
PRODID:icalendar-ruby
CALSCALE:GREGORIAN
BEGIN:VEVENT
DTSTAMP:20260422T193632Z
UID:1a517161-1d53-47e8-97a4-a774f424d9a0
DTSTART:20230301T090000Z
DTEND:20230304T000000Z
DESCRIPTION:First General Meeting of the COST Action CA21101 – COSY: Conf
 ined Molecular Systems: From a New Generation of Materials to the Stars.
SUMMARY:1-3 March 2023\, General Meeting of COSY Confined Molecular Systems
 : From a New Generation of Materials to the Stars\, Cádiz\, Spain
URL;VALUE=URI:https://www.laserlab-europe.eu/events-1/conferences/conferenc
 e-calendar/1-3-march-2023-general-meeting-of-cosy-confined-molecular-syste
 ms-from-a-new-generation-of-materials-to-the-stars-cadiz-spain
END:VEVENT
END:VCALENDAR
