BEGIN:VCALENDAR
VERSION:2.0
PRODID:icalendar-ruby
CALSCALE:GREGORIAN
BEGIN:VEVENT
DTSTAMP:20260421T023006Z
UID:4258766a-e68f-467b-91bf-a836bac9030b
DTSTART:20220801T090000Z
DTEND:20220827T000000Z
SUMMARY:1-26 August 2022\, Summer School on Scattering Theory\, Gdańsk\, P
 oland and online
URL;VALUE=URI:https://www.laserlab-europe.eu/events-1/conferences/conferenc
 e-calendar/1-26-august-2022-summer-school-on-scattering-theory-gdansk-pola
 nd-and-online
END:VEVENT
END:VCALENDAR
