BEGIN:VCALENDAR
VERSION:2.0
PRODID:icalendar-ruby
CALSCALE:GREGORIAN
BEGIN:VEVENT
DTSTAMP:20260422T035345Z
UID:dce4e168-3141-47e5-ba0a-f9a1cf9b5460
DTSTART:20240701T090000Z
DTEND:20240703T000000Z
SUMMARY:1-2 July 2024\, European Laboratory Astrophysics in the JWST era\, 
 Padova\, Italy
URL;VALUE=URI:https://www.laserlab-europe.eu/events/conferences/conference-
 calendar/1-2-july-2024-european-laboratory-astrophysics-in-the-jwst-era-pa
 dova-italy
END:VEVENT
END:VCALENDAR
