BEGIN:VCALENDAR
VERSION:2.0
PRODID:icalendar-ruby
CALSCALE:GREGORIAN
BEGIN:VEVENT
DTSTAMP:20260421T015935Z
UID:61eebebf-5985-4dda-a4b4-6fbef1c3dc45
DTSTART:20220701T090000Z
DTEND:20220712T000000Z
SUMMARY:1-11 July 2022\, Summer School Plasmas in Super-Intense Laser Field
 s\, Erice\, Sicily\, Italy
URL;VALUE=URI:https://www.laserlab-europe.eu/events-1/conferences/conferenc
 e-calendar/1-11-july-2022-summer-school-plasmas-in-super-intense-laser-fie
 lds-erice-sicily-italy
END:VEVENT
END:VCALENDAR
